Package: cageminer Version: 1.6.2 Command: /Library/Frameworks/R.framework/Resources/bin/R CMD build --keep-empty-dirs --no-resave-data cageminer StartedAt: 2023-10-15 17:10:51 -0400 (Sun, 15 Oct 2023) EndedAt: 2023-10-15 17:16:10 -0400 (Sun, 15 Oct 2023) EllapsedTime: 319.2 seconds RetCode: 0 Status: OK PackageFile: cageminer_1.6.2.tar.gz PackageFileSize: 1.225 MiB