Package: cageminer Version: 1.6.2 Command: rm -rf cageminer.buildbin-libdir && mkdir cageminer.buildbin-libdir && /Users/biocbuild/BBS/utils/build-universal.sh cageminer_1.6.2.tar.gz /Library/Frameworks/R.framework/Resources/bin/R cageminer.buildbin-libdir StartedAt: 2023-10-16 09:04:47 -0400 (Mon, 16 Oct 2023) EndedAt: 2023-10-16 09:07:27 -0400 (Mon, 16 Oct 2023) EllapsedTime: 159.7 seconds RetCode: 0 Status: OK PackageFile: cageminer_1.6.2.tgz PackageFileSize: 1.254 MiB