Package: cBioPortalData Version: 2.12.0 Command: rm -rf cBioPortalData.buildbin-libdir && mkdir cBioPortalData.buildbin-libdir && F:\biocbuild\bbs-3.17-bioc\R\bin\R.exe CMD INSTALL --build --library=cBioPortalData.buildbin-libdir cBioPortalData_2.12.0.tar.gz StartedAt: 2023-10-16 08:32:18 -0400 (Mon, 16 Oct 2023) EndedAt: 2023-10-16 08:33:08 -0400 (Mon, 16 Oct 2023) EllapsedTime: 49.5 seconds RetCode: 0 Status: OK PackageFile: cBioPortalData_2.12.0.zip PackageFileSize: 1.037 MiB