Package: cBioPortalData Version: 2.12.0 Command: /home/biocbuild/bbs-3.17-bioc/R/bin/R CMD INSTALL cBioPortalData StartedAt: 2023-10-15 15:26:44 -0400 (Sun, 15 Oct 2023) EndedAt: 2023-10-15 15:27:26 -0400 (Sun, 15 Oct 2023) EllapsedTime: 42.1 seconds RetCode: 0 Status: OK