Package: cBioPortalData Version: 2.12.0 Command: /home/biocbuild/bbs-3.17-bioc/R/bin/R CMD check --install=check:cBioPortalData.install-out.txt --library=/home/biocbuild/bbs-3.17-bioc/R/site-library --timings cBioPortalData_2.12.0.tar.gz StartedAt: 2023-10-15 19:52:48 -0400 (Sun, 15 Oct 2023) EndedAt: 2023-10-15 20:00:46 -0400 (Sun, 15 Oct 2023) EllapsedTime: 477.8 seconds RetCode: 0 Status: OK CheckDir: cBioPortalData.Rcheck Warnings: 0