Package: bumphunter Version: 1.42.0 Command: chmod a+r bumphunter -R && F:\biocbuild\bbs-3.17-bioc\R\bin\R.exe CMD build --keep-empty-dirs --no-resave-data bumphunter StartedAt: 2023-10-15 17:51:25 -0400 (Sun, 15 Oct 2023) EndedAt: 2023-10-15 17:52:36 -0400 (Sun, 15 Oct 2023) EllapsedTime: 71.3 seconds RetCode: 0 Status: OK PackageFile: bumphunter_1.42.0.tar.gz PackageFileSize: 2.366 MiB