Package: brendaDb Version: 1.14.0 Command: F:\biocbuild\bbs-3.17-bioc\R\bin\R.exe CMD INSTALL brendaDb StartedAt: 2023-10-15 16:06:00 -0400 (Sun, 15 Oct 2023) EndedAt: 2023-10-15 16:06:26 -0400 (Sun, 15 Oct 2023) EllapsedTime: 26.2 seconds RetCode: 0 Status: OK