Package: brendaDb Version: 1.14.0 Command: chmod a+r brendaDb -R && F:\biocbuild\bbs-3.17-bioc\R\bin\R.exe CMD build --keep-empty-dirs --no-resave-data brendaDb StartedAt: 2023-10-15 17:50:11 -0400 (Sun, 15 Oct 2023) EndedAt: 2023-10-15 17:51:00 -0400 (Sun, 15 Oct 2023) EllapsedTime: 48.5 seconds RetCode: 0 Status: OK PackageFile: brendaDb_1.14.0.tar.gz PackageFileSize: 651 KiB