Package: brendaDb Version: 1.14.0 Command: rm -rf brendaDb.buildbin-libdir && mkdir brendaDb.buildbin-libdir && F:\biocbuild\bbs-3.17-bioc\R\bin\R.exe CMD INSTALL --build --library=brendaDb.buildbin-libdir brendaDb_1.14.0.tar.gz StartedAt: 2023-10-16 08:30:46 -0400 (Mon, 16 Oct 2023) EndedAt: 2023-10-16 08:31:12 -0400 (Mon, 16 Oct 2023) EllapsedTime: 26.1 seconds RetCode: 0 Status: OK PackageFile: brendaDb_1.14.0.zip PackageFileSize: 1.061 MiB