Package: brendaDb Version: 1.14.0 Command: rm -rf brendaDb.buildbin-libdir && mkdir brendaDb.buildbin-libdir && /Users/biocbuild/BBS/utils/build-universal.sh brendaDb_1.14.0.tar.gz /Library/Frameworks/R.framework/Resources/bin/R brendaDb.buildbin-libdir StartedAt: 2023-10-16 09:03:47 -0400 (Mon, 16 Oct 2023) EndedAt: 2023-10-16 09:04:43 -0400 (Mon, 16 Oct 2023) EllapsedTime: 56.4 seconds RetCode: 0 Status: OK PackageFile: brendaDb_1.14.0.tgz PackageFileSize: 762.9 KiB