Package: breakpointR Version: 1.18.0 Command: /Library/Frameworks/R.framework/Resources/bin/R CMD build --keep-empty-dirs --no-resave-data breakpointR StartedAt: 2023-10-15 17:08:06 -0400 (Sun, 15 Oct 2023) EndedAt: 2023-10-15 17:10:51 -0400 (Sun, 15 Oct 2023) EllapsedTime: 165.2 seconds RetCode: 0 Status: OK PackageFile: breakpointR_1.18.0.tar.gz PackageFileSize: 818.7 KiB