Package: branchpointer Version: 1.26.0 Command: /home/biocbuild/bbs-3.17-bioc/R/bin/R CMD build --keep-empty-dirs --no-resave-data branchpointer StartedAt: 2023-10-15 16:09:16 -0400 (Sun, 15 Oct 2023) EndedAt: 2023-10-15 16:10:38 -0400 (Sun, 15 Oct 2023) EllapsedTime: 82.5 seconds RetCode: 0 Status: OK PackageFile: branchpointer_1.26.0.tar.gz PackageFileSize: 4.804 MiB