Package: branchpointer Version: 1.26.0 Command: /Library/Frameworks/R.framework/Resources/bin/R CMD INSTALL branchpointer StartedAt: 2023-10-15 16:11:40 -0400 (Sun, 15 Oct 2023) EndedAt: 2023-10-15 16:14:13 -0400 (Sun, 15 Oct 2023) EllapsedTime: 152.4 seconds RetCode: 0 Status: OK