Package: brainflowprobes Version: 1.14.0 Command: chmod a+r brainflowprobes -R && F:\biocbuild\bbs-3.17-bioc\R\bin\R.exe CMD build --keep-empty-dirs --no-resave-data brainflowprobes StartedAt: 2023-10-15 17:49:51 -0400 (Sun, 15 Oct 2023) EndedAt: 2023-10-15 17:51:25 -0400 (Sun, 15 Oct 2023) EllapsedTime: 93.8 seconds RetCode: 0 Status: OK PackageFile: brainflowprobes_1.14.0.tar.gz PackageFileSize: 2.249 MiB