Package: brainflowprobes Version: 1.14.0 Command: /Library/Frameworks/R.framework/Resources/bin/R CMD INSTALL brainflowprobes StartedAt: 2023-10-15 16:32:15 -0400 (Sun, 15 Oct 2023) EndedAt: 2023-10-15 16:34:53 -0400 (Sun, 15 Oct 2023) EllapsedTime: 157.9 seconds RetCode: 0 Status: OK