Package: borealis Version: 1.4.0 Command: F:\biocbuild\bbs-3.17-bioc\R\bin\R.exe CMD INSTALL borealis StartedAt: 2023-10-15 16:41:57 -0400 (Sun, 15 Oct 2023) EndedAt: 2023-10-15 16:42:42 -0400 (Sun, 15 Oct 2023) EllapsedTime: 44.6 seconds RetCode: 0 Status: OK