Package: borealis Version: 1.4.0 Command: rm -rf borealis.buildbin-libdir && mkdir borealis.buildbin-libdir && F:\biocbuild\bbs-3.17-bioc\R\bin\R.exe CMD INSTALL --build --library=borealis.buildbin-libdir borealis_1.4.0.tar.gz StartedAt: 2023-10-16 08:30:21 -0400 (Mon, 16 Oct 2023) EndedAt: 2023-10-16 08:31:05 -0400 (Mon, 16 Oct 2023) EllapsedTime: 43.8 seconds RetCode: 0 Status: OK PackageFile: borealis_1.4.0.zip PackageFileSize: 393.8 KiB