Package: bnbc Version: 1.22.0 Command: F:\biocbuild\bbs-3.17-bioc\R\bin\R.exe CMD INSTALL bnbc StartedAt: 2023-10-15 16:39:41 -0400 (Sun, 15 Oct 2023) EndedAt: 2023-10-15 16:40:33 -0400 (Sun, 15 Oct 2023) EllapsedTime: 52.6 seconds RetCode: 0 Status: OK