Package: bnbc Version: 1.22.0 Command: rm -rf bnbc.buildbin-libdir && mkdir bnbc.buildbin-libdir && F:\biocbuild\bbs-3.17-bioc\R\bin\R.exe CMD INSTALL --build --library=bnbc.buildbin-libdir bnbc_1.22.0.tar.gz StartedAt: 2023-10-16 08:30:15 -0400 (Mon, 16 Oct 2023) EndedAt: 2023-10-16 08:31:09 -0400 (Mon, 16 Oct 2023) EllapsedTime: 53.9 seconds RetCode: 0 Status: OK PackageFile: bnbc_1.22.0.zip PackageFileSize: 4.056 MiB