Package: bluster Version: 1.10.0 Command: F:\biocbuild\bbs-3.17-bioc\R\bin\R.exe CMD check --no-multiarch --install=check:bluster.install-out.txt --library=F:\biocbuild\bbs-3.17-bioc\R\library --no-vignettes --timings bluster_1.10.0.tar.gz StartedAt: 2023-10-16 00:04:29 -0400 (Mon, 16 Oct 2023) EndedAt: 2023-10-16 00:06:58 -0400 (Mon, 16 Oct 2023) EllapsedTime: 148.7 seconds RetCode: 0 Status: OK CheckDir: bluster.Rcheck Warnings: 0