Package: bluster Version: 1.10.0 Command: chmod a+r bluster -R && F:\biocbuild\bbs-3.17-bioc\R\bin\R.exe CMD build --keep-empty-dirs --no-resave-data bluster StartedAt: 2023-10-15 17:48:47 -0400 (Sun, 15 Oct 2023) EndedAt: 2023-10-15 17:51:27 -0400 (Sun, 15 Oct 2023) EllapsedTime: 159.9 seconds RetCode: 0 Status: OK PackageFile: bluster_1.10.0.tar.gz PackageFileSize: 1.649 MiB