Package: bluster Version: 1.10.0 Command: /home/biocbuild/bbs-3.17-bioc/R/bin/R CMD build --keep-empty-dirs --no-resave-data bluster StartedAt: 2023-10-15 16:08:18 -0400 (Sun, 15 Oct 2023) EndedAt: 2023-10-15 16:10:24 -0400 (Sun, 15 Oct 2023) EllapsedTime: 126.1 seconds RetCode: 0 Status: OK PackageFile: bluster_1.10.0.tar.gz PackageFileSize: 2.855 MiB