Package: bluster Version: 1.10.0 Command: /Library/Frameworks/R.framework/Resources/bin/R CMD check --install=check:bluster.install-out.txt --library=/Library/Frameworks/R.framework/Resources/library --no-vignettes --timings bluster_1.10.0.tar.gz StartedAt: 2023-10-15 23:13:12 -0400 (Sun, 15 Oct 2023) EndedAt: 2023-10-15 23:18:24 -0400 (Sun, 15 Oct 2023) EllapsedTime: 312.3 seconds RetCode: 0 Status: OK CheckDir: bluster.Rcheck Warnings: 0