Package: bluster Version: 1.10.0 Command: rm -rf bluster.buildbin-libdir && mkdir bluster.buildbin-libdir && /Users/biocbuild/BBS/utils/build-universal.sh bluster_1.10.0.tar.gz /Library/Frameworks/R.framework/Resources/bin/R bluster.buildbin-libdir StartedAt: 2023-10-16 09:03:21 -0400 (Mon, 16 Oct 2023) EndedAt: 2023-10-16 09:05:02 -0400 (Mon, 16 Oct 2023) EllapsedTime: 100.9 seconds RetCode: 0 Status: OK PackageFile: bluster_1.10.0.tgz PackageFileSize: 3.328 MiB