Package: blima Version: 1.34.0 Command: /Library/Frameworks/R.framework/Resources/bin/R CMD INSTALL blima StartedAt: 2023-10-15 15:42:18 -0400 (Sun, 15 Oct 2023) EndedAt: 2023-10-15 15:43:46 -0400 (Sun, 15 Oct 2023) EllapsedTime: 87.8 seconds RetCode: 0 Status: OK