Package: blacksheepr Version: 1.14.0 Command: rm -rf blacksheepr.buildbin-libdir && mkdir blacksheepr.buildbin-libdir && F:\biocbuild\bbs-3.17-bioc\R\bin\R.exe CMD INSTALL --build --library=blacksheepr.buildbin-libdir blacksheepr_1.14.0.tar.gz StartedAt: 2023-10-16 08:30:03 -0400 (Mon, 16 Oct 2023) EndedAt: 2023-10-16 08:30:43 -0400 (Mon, 16 Oct 2023) EllapsedTime: 40.1 seconds RetCode: 0 Status: OK PackageFile: blacksheepr_1.14.0.zip PackageFileSize: 4.036 MiB