Package: blacksheepr Version: 1.14.0 Command: /home/biocbuild/bbs-3.17-bioc/R/bin/R CMD INSTALL blacksheepr StartedAt: 2023-10-15 15:39:46 -0400 (Sun, 15 Oct 2023) EndedAt: 2023-10-15 15:40:20 -0400 (Sun, 15 Oct 2023) EllapsedTime: 34.6 seconds RetCode: 0 Status: OK