Package: biscuiteer Version: 1.14.0 Command: /home/biocbuild/bbs-3.17-bioc/R/bin/R CMD check --install=check:biscuiteer.install-out.txt --library=/home/biocbuild/bbs-3.17-bioc/R/site-library --timings biscuiteer_1.14.0.tar.gz StartedAt: 2023-10-15 19:39:17 -0400 (Sun, 15 Oct 2023) EndedAt: 2023-10-15 19:48:09 -0400 (Sun, 15 Oct 2023) EllapsedTime: 532.6 seconds RetCode: 0 Status: WARNINGS CheckDir: biscuiteer.Rcheck Warnings: 1