Package: biscuiteer Version: 1.14.0 Command: /home/biocbuild/bbs-3.17-bioc/R/bin/R CMD build --keep-empty-dirs --no-resave-data biscuiteer StartedAt: 2023-10-15 16:07:17 -0400 (Sun, 15 Oct 2023) EndedAt: 2023-10-15 16:09:02 -0400 (Sun, 15 Oct 2023) EllapsedTime: 104.8 seconds RetCode: 0 Status: OK PackageFile: biscuiteer_1.14.0.tar.gz PackageFileSize: 4.762 MiB