Package: biscuiteer Version: 1.14.0 Command: /Library/Frameworks/R.framework/Resources/bin/R CMD check --install=check:biscuiteer.install-out.txt --library=/Library/Frameworks/R.framework/Resources/library --no-vignettes --timings biscuiteer_1.14.0.tar.gz StartedAt: 2023-10-15 23:11:23 -0400 (Sun, 15 Oct 2023) EndedAt: 2023-10-15 23:31:24 -0400 (Sun, 15 Oct 2023) EllapsedTime: 1200.2 seconds RetCode: 0 Status: WARNINGS CheckDir: biscuiteer.Rcheck Warnings: 1