Package: biscuiteer Version: 1.14.0 Command: /Library/Frameworks/R.framework/Resources/bin/R CMD build --keep-empty-dirs --no-resave-data biscuiteer StartedAt: 2023-10-15 17:04:14 -0400 (Sun, 15 Oct 2023) EndedAt: 2023-10-15 17:08:30 -0400 (Sun, 15 Oct 2023) EllapsedTime: 256.8 seconds RetCode: 0 Status: OK PackageFile: biscuiteer_1.14.0.tar.gz PackageFileSize: 4.762 MiB