Package: biovizBase Version: 1.48.0 Command: /Library/Frameworks/R.framework/Resources/bin/R CMD check --install=check:biovizBase.install-out.txt --library=/Library/Frameworks/R.framework/Resources/library --no-vignettes --timings biovizBase_1.48.0.tar.gz StartedAt: 2023-10-15 23:11:13 -0400 (Sun, 15 Oct 2023) EndedAt: 2023-10-15 23:25:35 -0400 (Sun, 15 Oct 2023) EllapsedTime: 861.6 seconds RetCode: 0 Status: WARNINGS CheckDir: biovizBase.Rcheck Warnings: 2