Package: biotmle Version: 1.24.0 Command: /home/biocbuild/bbs-3.17-bioc/R/bin/R CMD INSTALL biotmle StartedAt: 2023-10-15 15:44:51 -0400 (Sun, 15 Oct 2023) EndedAt: 2023-10-15 15:45:13 -0400 (Sun, 15 Oct 2023) EllapsedTime: 22.0 seconds RetCode: 0 Status: OK