Package: biotmle Version: 1.24.0 Command: /Library/Frameworks/R.framework/Resources/bin/R CMD build --keep-empty-dirs --no-resave-data biotmle StartedAt: 2023-10-15 17:03:45 -0400 (Sun, 15 Oct 2023) EndedAt: 2023-10-15 17:06:29 -0400 (Sun, 15 Oct 2023) EllapsedTime: 163.9 seconds RetCode: 0 Status: OK PackageFile: biotmle_1.24.0.tar.gz PackageFileSize: 314.5 KiB