Package: biosigner Version: 1.28.0 Command: /home/biocbuild/bbs-3.17-bioc/R/bin/R CMD build --keep-empty-dirs --no-resave-data biosigner StartedAt: 2023-10-15 16:06:51 -0400 (Sun, 15 Oct 2023) EndedAt: 2023-10-15 16:09:38 -0400 (Sun, 15 Oct 2023) EllapsedTime: 166.2 seconds RetCode: 0 Status: OK PackageFile: biosigner_1.28.0.tar.gz PackageFileSize: 4.226 MiB