Package: biomvRCNS Version: 1.40.0 Command: /Library/Frameworks/R.framework/Resources/bin/R CMD INSTALL biomvRCNS StartedAt: 2023-10-15 15:53:11 -0400 (Sun, 15 Oct 2023) EndedAt: 2023-10-15 15:53:13 -0400 (Sun, 15 Oct 2023) EllapsedTime: 2.3 seconds RetCode: 1 Status: ERROR