Package: biomvRCNS Version: 1.40.0 Command: /Library/Frameworks/R.framework/Resources/bin/R CMD build --keep-empty-dirs --no-resave-data biomvRCNS StartedAt: 2023-10-15 17:02:48 -0400 (Sun, 15 Oct 2023) EndedAt: 2023-10-15 17:02:50 -0400 (Sun, 15 Oct 2023) EllapsedTime: 2.0 seconds RetCode: 1 Status: ERROR PackageFile: None PackageFileSize: NA