Package: biomformat Version: 1.28.0 Command: rm -rf biomformat.buildbin-libdir && mkdir biomformat.buildbin-libdir && F:\biocbuild\bbs-3.17-bioc\R\bin\R.exe CMD INSTALL --build --library=biomformat.buildbin-libdir biomformat_1.28.0.tar.gz StartedAt: 2023-10-16 08:29:34 -0400 (Mon, 16 Oct 2023) EndedAt: 2023-10-16 08:29:51 -0400 (Mon, 16 Oct 2023) EllapsedTime: 17.3 seconds RetCode: 0 Status: OK PackageFile: biomformat_1.28.0.zip PackageFileSize: 469.2 KiB