Package: biomformat Version: 1.28.0 Command: /Library/Frameworks/R.framework/Resources/bin/R CMD INSTALL biomformat StartedAt: 2023-10-15 15:17:49 -0400 (Sun, 15 Oct 2023) EndedAt: 2023-10-15 15:18:15 -0400 (Sun, 15 Oct 2023) EllapsedTime: 25.6 seconds RetCode: 0 Status: OK