Package: biomaRt Version: 2.56.1 Command: rm -rf biomaRt.buildbin-libdir && mkdir biomaRt.buildbin-libdir && F:\biocbuild\bbs-3.17-bioc\R\bin\R.exe CMD INSTALL --build --library=biomaRt.buildbin-libdir biomaRt_2.56.1.tar.gz StartedAt: 2023-10-16 08:29:32 -0400 (Mon, 16 Oct 2023) EndedAt: 2023-10-16 08:29:57 -0400 (Mon, 16 Oct 2023) EllapsedTime: 24.6 seconds RetCode: 0 Status: OK PackageFile: biomaRt_2.56.1.zip PackageFileSize: 923.9 KiB