Package: biomaRt Version: 2.56.1 Command: /home/biocbuild/bbs-3.17-bioc/R/bin/R CMD INSTALL biomaRt StartedAt: 2023-10-15 15:20:29 -0400 (Sun, 15 Oct 2023) EndedAt: 2023-10-15 15:20:47 -0400 (Sun, 15 Oct 2023) EllapsedTime: 17.8 seconds RetCode: 0 Status: OK