Package: biomaRt Version: 2.56.1 Command: /home/biocbuild/bbs-3.17-bioc/R/bin/R CMD check --install=check:biomaRt.install-out.txt --library=/home/biocbuild/bbs-3.17-bioc/R/site-library --timings biomaRt_2.56.1.tar.gz StartedAt: 2023-10-15 19:36:53 -0400 (Sun, 15 Oct 2023) EndedAt: 2023-10-15 19:40:14 -0400 (Sun, 15 Oct 2023) EllapsedTime: 200.2 seconds RetCode: 0 Status: OK CheckDir: biomaRt.Rcheck Warnings: 0