Package: biomaRt Version: 2.56.1 Command: /Library/Frameworks/R.framework/Resources/bin/R CMD check --install=check:biomaRt.install-out.txt --library=/Library/Frameworks/R.framework/Resources/library --no-vignettes --timings biomaRt_2.56.1.tar.gz StartedAt: 2023-10-15 23:08:40 -0400 (Sun, 15 Oct 2023) EndedAt: 2023-10-15 23:14:13 -0400 (Sun, 15 Oct 2023) EllapsedTime: 332.4 seconds RetCode: 0 Status: OK CheckDir: biomaRt.Rcheck Warnings: 0