Package: biodbUniprot Version: 1.6.0 Command: F:\biocbuild\bbs-3.17-bioc\R\bin\R.exe CMD check --no-multiarch --install=check:biodbUniprot.install-out.txt --library=F:\biocbuild\bbs-3.17-bioc\R\library --no-vignettes --timings biodbUniprot_1.6.0.tar.gz StartedAt: 2023-10-15 23:58:56 -0400 (Sun, 15 Oct 2023) EndedAt: 2023-10-16 00:00:24 -0400 (Mon, 16 Oct 2023) EllapsedTime: 87.5 seconds RetCode: 0 Status: OK CheckDir: biodbUniprot.Rcheck Warnings: 0