Package: biodbUniprot Version: 1.6.0 Command: rm -rf biodbUniprot.buildbin-libdir && mkdir biodbUniprot.buildbin-libdir && F:\biocbuild\bbs-3.17-bioc\R\bin\R.exe CMD INSTALL --build --library=biodbUniprot.buildbin-libdir biodbUniprot_1.6.0.tar.gz StartedAt: 2023-10-16 08:29:29 -0400 (Mon, 16 Oct 2023) EndedAt: 2023-10-16 08:29:49 -0400 (Mon, 16 Oct 2023) EllapsedTime: 20.2 seconds RetCode: 0 Status: OK PackageFile: biodbUniprot_1.6.0.zip PackageFileSize: 498.1 KiB