Package: biodbUniprot Version: 1.6.0 Command: /home/biocbuild/bbs-3.17-bioc/R/bin/R CMD check --install=check:biodbUniprot.install-out.txt --library=/home/biocbuild/bbs-3.17-bioc/R/site-library --timings biodbUniprot_1.6.0.tar.gz StartedAt: 2023-10-15 19:36:48 -0400 (Sun, 15 Oct 2023) EndedAt: 2023-10-15 19:39:17 -0400 (Sun, 15 Oct 2023) EllapsedTime: 148.9 seconds RetCode: 0 Status: OK CheckDir: biodbUniprot.Rcheck Warnings: 0