Package: biodbNcbi Version: 1.4.0 Command: /Library/Frameworks/R.framework/Resources/bin/R CMD check --install=check:biodbNcbi.install-out.txt --library=/Library/Frameworks/R.framework/Resources/library --no-vignettes --timings biodbNcbi_1.4.0.tar.gz StartedAt: 2023-10-15 23:07:32 -0400 (Sun, 15 Oct 2023) EndedAt: 2023-10-15 23:11:54 -0400 (Sun, 15 Oct 2023) EllapsedTime: 261.6 seconds RetCode: 0 Status: OK CheckDir: biodbNcbi.Rcheck Warnings: 0