Package: biodbNcbi Version: 1.4.0 Command: rm -rf biodbNcbi.buildbin-libdir && mkdir biodbNcbi.buildbin-libdir && /Users/biocbuild/BBS/utils/build-universal.sh biodbNcbi_1.4.0.tar.gz /Library/Frameworks/R.framework/Resources/bin/R biodbNcbi.buildbin-libdir StartedAt: 2023-10-16 09:02:35 -0400 (Mon, 16 Oct 2023) EndedAt: 2023-10-16 09:03:20 -0400 (Mon, 16 Oct 2023) EllapsedTime: 45.1 seconds RetCode: 0 Status: OK PackageFile: biodbNcbi_1.4.0.tgz PackageFileSize: 1.137 MiB