git_url: https://git.bioconductor.org/packages/biodbNcbi git_branch: RELEASE_3_17 git_last_commit: a5fe16a git_last_commit_date: 2023-04-25 11:36:48 -0400 (Tue, 25 Apr 2023) Package: biodbNcbi Version: 1.4.0 Maintainer: Pierrick Roger MaintainerEmail: pierrick.roger at cea.fr