Package: biodbMirbase Version: 1.4.0 Command: F:\biocbuild\bbs-3.17-bioc\R\bin\R.exe CMD check --no-multiarch --install=check:biodbMirbase.install-out.txt --library=F:\biocbuild\bbs-3.17-bioc\R\library --no-vignettes --timings biodbMirbase_1.4.0.tar.gz StartedAt: 2023-07-21 00:40:05 -0400 (Fri, 21 Jul 2023) EndedAt: 2023-07-21 00:41:18 -0400 (Fri, 21 Jul 2023) EllapsedTime: 72.9 seconds RetCode: 0 Status: OK CheckDir: biodbMirbase.Rcheck Warnings: 0